BEGIN:VCALENDAR
VERSION:2.0
PRODID:-//Yoga Yerba - ECPv5.16.1.1//NONSGML v1.0//EN
CALSCALE:GREGORIAN
METHOD:PUBLISH
X-ORIGINAL-URL:https://yogayerba.ch
X-WR-CALDESC:Events for Yoga Yerba
REFRESH-INTERVAL;VALUE=DURATION:PT1H
X-Robots-Tag:noindex
X-PUBLISHED-TTL:PT1H
BEGIN:VTIMEZONE
TZID:Europe/Zurich
BEGIN:DAYLIGHT
TZOFFSETFROM:+0100
TZOFFSETTO:+0200
TZNAME:CEST
DTSTART:20240331T010000
END:DAYLIGHT
BEGIN:STANDARD
TZOFFSETFROM:+0200
TZOFFSETTO:+0100
TZNAME:CET
DTSTART:20241027T010000
END:STANDARD
END:VTIMEZONE
BEGIN:VEVENT
DTSTART;TZID=Europe/Zurich:20240224T110000
DTEND;TZID=Europe/Zurich:20240224T140000
DTSTAMP:20260423T112004
CREATED:20240112T163913Z
LAST-MODIFIED:20240112T163946Z
UID:29217-1708772400-1708783200@yogayerba.ch
SUMMARY:Yoga Brunch - Février 2024
DESCRIPTION:°°°°°°°°°°°°°°°°°°°°°°°°°°°°°\n\nYOGA BRUNCH\nSamedi 24 février\n11h à 14h\n\n°°°°°°°°°°°°°°°°°°°°°°°°°°°°°\nLa neige fait son apparition et résonne comme une envie d’être au chaud. Pourquoi ne pas enfiler un leggings pour un YogaBrunch ?! \n° \nLa pratique de Yoga Vinyasa se situera à Jonction Thérapies\, puis les festivités se poursuivront à quelques 500 mètres plus loin\, à la Boulangerie Leonhard Bretzel avec un délicieux brunch. \n° \nLes tarifs \nCHF 50.- / pers inscription solo \nCHF 45.-/ pers inscription duo \nEARLY BIRD : CHF 5.- de réduction valable jusqu’au 21 janvier. \n° \nInscription au 076 615 73 70 \n° \nUne fois l’inscription validée\, tu peux régler le montant par virement bancaire: \n° \nYOGA YERBA\, Lior Paparou \nChemin Charles-Poluzzi 11b \n1227 Carouge \nCH58 8080 8003 3582 8388 1 \n° \nQuelques informations et recommandations: \n– prévoyez votre arrivée avec 15 min d’avance \n– apportez votre tapis/linge \n– prenez des vêtements confortables et de quoi vous couvrir pour la relaxation finale \n– il est recommandé de venir à jeûn \n° \nAdresse : cour intérieure\, rue du Vélodrome 5a\, 1er étage\, 1205 Genève \nÀ vélo : pour s’échauffer avant la pratique \nEn tpg : arrêt Jonction bus 2\,3\,7\,10\,11\, 19\, 80\, 91 A1\, A6 ou tram 14. \nEn voiture : il n’y a pas beaucoup de places aux alentours. Vous pouvez vous garer au parking David Dufour. \n° \nAu plaisir de pratiquer avec vous \n° \nNamasté \n° \nYoga Yerba
URL:https://yogayerba.ch/event/yoga-brunch-fevrier-2024/
LOCATION:Jonction Thérapies\, rue du Vélodrome 5a\, Genève\, Genève\, 1205\, Suisse
CATEGORIES:Avancé·e,Débutant·e,Intermédiaire,Ponctuel,YogaBrunch
ATTACH;FMTTYPE=image/jpeg:https://yogayerba.ch/wp-content/uploads/2024/01/signal-2024-01-11-02-29-24-326.jpg
END:VEVENT
END:VCALENDAR