BEGIN:VCALENDAR
VERSION:2.0
PRODID:-//Yoga Yerba - ECPv5.16.1.1//NONSGML v1.0//EN
CALSCALE:GREGORIAN
METHOD:PUBLISH
X-WR-CALNAME:Yoga Yerba
X-ORIGINAL-URL:https://yogayerba.ch
X-WR-CALDESC:Events for Yoga Yerba
REFRESH-INTERVAL;VALUE=DURATION:PT1H
X-Robots-Tag:noindex
X-PUBLISHED-TTL:PT1H
BEGIN:VTIMEZONE
TZID:Europe/Zurich
BEGIN:DAYLIGHT
TZOFFSETFROM:+0100
TZOFFSETTO:+0200
TZNAME:CEST
DTSTART:20230326T010000
END:DAYLIGHT
BEGIN:STANDARD
TZOFFSETFROM:+0200
TZOFFSETTO:+0100
TZNAME:CET
DTSTART:20231029T010000
END:STANDARD
END:VTIMEZONE
BEGIN:VEVENT
DTSTART;TZID=Europe/Zurich:20230618T110000
DTEND;TZID=Europe/Zurich:20230618T140000
DTSTAMP:20260424T121956
CREATED:20230525T080653Z
LAST-MODIFIED:20230525T080653Z
UID:29132-1687086000-1687096800@yogayerba.ch
SUMMARY:YogaBrunch tout en douceur
DESCRIPTION:Séance de Yoga doux assis (tout âge et tous niveaux) d'environ 1 heure suivie d’un brunch à l’Atelier TeaCup \n\n\n\n\nSi pour toi aussi\, les dimanches sont synonymes de détente\, de déconnexion\, et de lâcher prise\, alors cet atelier est fait pour toi \n\n\n\n\nYoga Yerba nous prépare un délicieux assortiment d’exercices de respiration\, de mouvements et d’étirements simples et relaxants\, et ce pour nous permettre d’être à l’écoute de notre corps\, et de nos sensations \n\n\n\n\nIl faut savoir que le Yoga est arrivé dans la vie de Yoga Yerba depuis maintenant plus de 11 ans\, et ne l'a plus jamais quittée. Tout au long de ces années\, Yoga Yerba s’est entourée d’enseignant·es passionné·es. Elle a également eu l’opportunité de suivre une formation en Inde\, et dès son retour en 2018\, Yoga Yerba a commencé à enseigner dans différents lieux de Genève et à des publics variés. Elle organise régulièrement des Yoga Brunchs. Ce sont des moments hors du temps\, d’échange et de partage dans la joie et la bonne humeur \n\n\n\n\nYoga Yerba a également suivi une formation de Yoga Thérapie\, ce qui lui permet de rendre accessible ses cours à un large public. Yoga Yerba prône un yoga accessible\, inclusif et engagé où chacun y va à son rythme selon ses besoins et ses envies.\n\n\n\n\nPour en savoir plus sur Yoga Yerba et sur sa pratique du Yoga\, je vous transmets ici son lien vers sa page insta : \n\n\n\n\nTarif: 45 CHF.- (inclus la séance de yoga et le brunch)\n\n\n\n\n\n\nChemin du Bois-Ecard 4\, 1228 Plan-Les-Ouates\n\n\n\n\n\n\nPour toute inscription et information complémentaire\, merci de me contacter OpenUp au +41 456 50 09\n\n\n\n\n\nPlaces limitées.
URL:https://yogayerba.ch/event/yogabrunch-tout-en-douceur/
LOCATION:Atelier Tea Cup\, Chemin du Bois-Ecard 4\, Plan-les-Ouates\, 1228\, Suisse
CATEGORIES:YogaBrunch
ORGANIZER;CN="OpenUp":MAILTO:sophie@openup-ch.com
END:VEVENT
END:VCALENDAR