BEGIN:VCALENDAR
VERSION:2.0
PRODID:-//Yoga Yerba - ECPv5.16.1.1//NONSGML v1.0//EN
CALSCALE:GREGORIAN
METHOD:PUBLISH
X-WR-CALNAME:Yoga Yerba
X-ORIGINAL-URL:https://yogayerba.ch
X-WR-CALDESC:Events for Yoga Yerba
REFRESH-INTERVAL;VALUE=DURATION:PT1H
X-Robots-Tag:noindex
X-PUBLISHED-TTL:PT1H
BEGIN:VTIMEZONE
TZID:Europe/Zurich
BEGIN:DAYLIGHT
TZOFFSETFROM:+0100
TZOFFSETTO:+0200
TZNAME:CEST
DTSTART:20230326T010000
END:DAYLIGHT
BEGIN:STANDARD
TZOFFSETFROM:+0200
TZOFFSETTO:+0100
TZNAME:CET
DTSTART:20231029T010000
END:STANDARD
END:VTIMEZONE
BEGIN:VEVENT
DTSTART;TZID=Europe/Zurich:20230115T103000
DTEND;TZID=Europe/Zurich:20230115T143000
DTSTAMP:20260424T204247
CREATED:20221117T172635Z
LAST-MODIFIED:20221117T175443Z
UID:29024-1673778600-1673793000@yogayerba.ch
SUMMARY:Yoga Brunch dimanche 15 janvier 2023
DESCRIPTION:          \nYOGA BRUNCH\nDimanche 15 janvier de 10h30 à 14h30\n         \nLe dimanche représente le jour parfait pour… un Yoga Brunch! \nEh oui! Viens étirer tes gambettes en commençant par une pratique de Yoga \nVinyasa d'environ 1h30 \nPuis\, remplis ta panse à l’Atelier TeaCup avec un délicieux brunch  \n La pratique de Yoga se situera au Cabinet En Corps\, chemin du Bois-Ecard 4\, 1228 Plan-les-Ouates\, puis les festivités se poursuivront juste à côté\, à l’Atelier TeaCup. \nLes tarifs \nCHF 45.- / pers inscription solo \nCHF 40.-/ pers inscription duo \nEARLY BIRD : CHF 5.- de réduction valable jusqu’au 21 novembre \nInscription validée\, dès le règlement de l’entier du montant \nVous pouvez choisir de régler par : \n Twint \n076 615 73 70 \n Virement bancaire \nYOGA YERBA\, Lior Paparou \nRue de la Navigation 5 \n1201 Genève \nCH58 8080 8003 3582 8388 1 \nQuelques informations et recommandations: \n prévoyez votre arrivée avec 15 min d’avance \n apportez votre tapis/linge \n prenez des habits confortables et de quoi vous couvrir pour la relaxation finale \n il est préférable de venir à jeûn \nPour venir : \nAdresse : chemin du Bois-Ecard 4\, 1228 Plan-Les-Ouates \n À vélo : huile de coude \n En tpg : bus 43\, arrêt Serves \n En voiture : il n’y a pas beaucoup de places aux alentours. Vous pouvez vous garer au P+R Trèfle-Blanc et venir à pied (9 min). \nJe reste à disposition en cas de doutes et questions. \nAu plaisir de pratiquer avec vous  \nNamasté  \nYoga Yerba  \n——- \nDécouvre le flyer en un clic: \nYogaBrunch15janvier2022
URL:https://yogayerba.ch/event/yoga-brunch-dimanche-15-janvier-2023/
LOCATION:Genève
CATEGORIES:YogaBrunch
END:VEVENT
END:VCALENDAR