BEGIN:VCALENDAR
VERSION:2.0
PRODID:-//Yoga Yerba - ECPv5.16.1.1//NONSGML v1.0//EN
CALSCALE:GREGORIAN
METHOD:PUBLISH
X-WR-CALNAME:Yoga Yerba
X-ORIGINAL-URL:https://yogayerba.ch
X-WR-CALDESC:Events for Yoga Yerba
REFRESH-INTERVAL;VALUE=DURATION:PT1H
X-Robots-Tag:noindex
X-PUBLISHED-TTL:PT1H
BEGIN:VTIMEZONE
TZID:Europe/Zurich
BEGIN:DAYLIGHT
TZOFFSETFROM:+0100
TZOFFSETTO:+0200
TZNAME:CEST
DTSTART:20260329T010000
END:DAYLIGHT
BEGIN:STANDARD
TZOFFSETFROM:+0200
TZOFFSETTO:+0100
TZNAME:CET
DTSTART:20261025T010000
END:STANDARD
END:VTIMEZONE
BEGIN:VEVENT
DTSTART;TZID=Europe/Zurich:20260419T183000
DTEND;TZID=Europe/Zurich:20260424T140000
DTSTAMP:20260419T140428
CREATED:20251130T142737Z
LAST-MODIFIED:20260113T212913Z
UID:29499-1776623400-1777039200@yogayerba.ch
SUMMARY:SÉJOUR FEMMES | Yoga & Découverte - Les Sœurs du Soleil
DESCRIPTION:Du 19 au 24 avril 2026 · Côte marocaine \nUn séjour imaginé par des femmes\, pour les femmes.Un espace de liberté\, de quiétude et de puissance\, où l’on vient respirer\, ressentir\, bouger\, partager\, s’ouvrir – ensemble.Entre océan et lumière\, yoga et bien-être\, exploration et sororité\, ce voyage est une invitation à briller\, chacune à sa manière et à rayonner ensemble. \n💛 Les Sœurs du Soleil\, c’est… \n✨ Un cercle de femmes\, bienveillant\, inspirant et vibrant🧘‍♀️ Du yoga\, du mouvement\, de la respiration\, accessibles à toutes🌿 Des temps de découverte\, d’émerveillement\, de créativité🌊 La possibilité d’explorer le surf\, en connexion avec l’océan 🍽 Une cuisine locale\, généreuse et colorée🌺 Des moments de repos\, de contemplation\, de rire\, d’écoute\, de silence \nIci\, pas de performance\, pas d’attentes. Juste la joie de vivre le mouvement\, la présence\, le lien et la lumière. \n\n🧘‍♀️ Yoga\, mouvement & exploration intérieure avec Yoga Yerba \nLior vous guide à travers une approche intuitive\, douce et incarnée du yoga : Vinyasa & Yin\, Nidra\, méditations et expériences sensoriellesUn yoga qui libère le corps\, apaise le mental et révèle le cœur. \n🌊Des activités de découverte\, de création et de mouvement \nPour celles qui souhaitent se connecter à la puissance de l’océan\, se détendre\, créer ou concocter\, il y en aura pour tous les goûts! \n\n🏡 Un havre de lumière : Sidi Kaouki \nSur la côte marocaine\, face à l’Atlantique\, un village préservé\, calme et sauvage.Une magnifique villa en pierre\, avec des chambres spacieuses\, une piscine chauffée et des transats qui t’attendent à bras ouvertsUn lieu de douceur où l’on dépose ses valises et son mental. \n\n🌸 Tarifs \nChambre triple (lits partagés) → CHF 950.-/personne\nChambre double (lit partagé) → CHF 990.-/personne\nChambre individuelle → CHF 1’300.- CHF \n50% d’acompte à l’inscription. Solde dû avant le 1er mars 2026. \n\n🤎 Ce qui est inclus \n✔ 10 heures de Yoga\n✔ Hébergement✔ Tous les repas et l’eau\n✔ Massage\n✔ Hébergement\n✔ Transport sur place\n✔ Expériences guidées & surprises \n❌ Non inclus : vols\, transferts depuis l’aéroport\, soins supplémentaires\, assurances\, dépenses personnelles \n\n📩 Réserve ta place dès maintenant en remplissant le formulaire ci-après: \nInscription – Les Soeurs du Soleil \n📩 Infos :info@yogayerba.ch\nDalila : +33 6 65 46 21 90 (gestion sur place\, logistique)\nLior : +41 76 615 73 70 (Yoga) \n\nCONDITIONS GÉNÉRALES \nParticipation volontaire\nJe reconnais que ma participation au séjour Les Sœurs du Soleil est entièrement volontaire et que je suis consciente de la nature des activités proposées. \nCondition physique\nJe confirme être en bonne condition physique et mentale pour participer à cette retraite. J’ai informé les organisatrices de toute condition médicale pouvant influencer ma pratique. Je suis responsable de consulter un·e professionnel·le de santé si nécessaire. \nResponsabilité personnelle\nJe m’engage à écouter mon corps\, respecter mes limites et informer les accompagnatrices en cas de gêne ou douleur. Je comprends que je suis responsable de mon bien-être durant la retraite. \nRisques liés aux activités\nJe suis consciente que le yoga et les mouvements sportifs comportent des risques physiques et psychologiques. Je libère les organisateur·rices de toute responsabilité en cas de blessure\, accident ou dommage subi durant la retraite. \nConfidentialité et respect\nJe m’engage à respecter la confidentialité des échanges entre participant·es et à adopter une attitude bienveillante envers toutes. \nPaiement et annulation\nL’inscription est validée par le paiement d’un acompte de 50 % du montant total. \nAnnulation avant le 1er mars 2026: \n\nRemboursement du solde en cas d’annulation personnelle\, l’acompte reste dû/retenu.\nRemboursement total en cas de force majeure (sur justificatif).\n\nAnnulation après le 1er mars 2026 : \n\nLe montant total reste dû en cas d’annulation personnelle.\nRemboursement à 50% en cas de force majeure (sur justificatif).\n\n  \n 
URL:https://yogayerba.ch/event/sejour-femmes-yoga-decouvertes-les-soeurs-du-soleil/
LOCATION:Villa Maya\, 9776+H33\, Sidi Kaouki\, Essaouira\, 44000\, Morocco
ATTACH;FMTTYPE=image/png:https://yogayerba.ch/wp-content/uploads/2025/11/Neutre-Moderne-retraite-Yoga-et-Pilates-Carrousel-Instagram-.png
END:VEVENT
BEGIN:VEVENT
DTSTART;TZID=Europe/Zurich:20260504T190000
DTEND;TZID=Europe/Zurich:20260504T200000
DTSTAMP:20260419T140428
CREATED:20260114T162021Z
LAST-MODIFIED:20260324T135055Z
UID:29518-1777921200-1777924800@yogayerba.ch
SUMMARY:Yoga Sonore – Vinyasa & vibrations
DESCRIPTION:Un flow\, un souffle\, un battement.\nEntre mouvement et percussion live\, cette séance de yoga sonore est une invitation à ressentir plutôt qu’à faire\, à se laisser traverser par le rythme\, à entrer pleinement dans le corps. \nLe Vinyasa se déploie au fil des vibrations : les sons guident\, soutiennent et intensifient l’expérience.\nChaque posture devient un espace d’écoute\, chaque transition un dialogue entre respiration\, énergie et musique.\nUn voyage sensoriel profond pour s’ancrer\, se libérer et se reconnecter à l’essentiel. \n📅 Lundi 4 mai\n🕖 19h – 20h \n📍 Lieu : École du Pré-Du-Camp\nRte des Chevaliers-de-Malte 11\, 1228 Plan-les-Ouates\n💰 Prix : CHF 30.–* \nOuvert à tous les niveaux.\nPlaces limitées – réservation conseillée : poppyhelle@gmail.com | +41 79 269 83 38\nApporte ton tapis ! \n*Offre valable jusqu’au 12 avril & lors de l’inscription de 2 personnes. Le montant du cours est ensuite de 35 CHF/personne. \nLes intervenantes \n🧘‍♀️ Yoga Yerba \nYoga Yerba propose un Yoga Vinyasa organique\, intuitif et ancré où le mouvement se construit en lien avec la respiration et les ressentis du moment.\nLa pratique invite à habiter pleinement le corps\, à cultiver la présence et à explorer une fluidité à la fois dynamique et engagée. Chaque séance est pensée comme un espace sécurisant et vivant\, favorisant l’écoute intérieure\, la liberté de mouvement et le lien entre corps et esprit. \n🥁 Poppy Perc (Sophie Helle) \nSophie est percussionniste et pianiste. Formée à la musique classique au Conservatoire de Musique de Genève\, elle s’oriente ensuite vers les percussions latines\, notamment les congas et un set de multi-percussions. \nElle collabore actuellement avec la rappeuse dominicaine La Nefera et joue au sein de plusieurs groupes de musique latine basés à Genève (En Talla\, La Trampa\, Son Latino). Sophie est également co-créatrice de Malcriadas\, un projet interdisciplinaire féministe de création et de production musicale. En 2025\, elle a participé au projet intercantonal Unifinity. \nLa séance – Yoga & percussion live \nLors de cette séance\, Poppy Perc propose un accompagnement musical et rythmique en direct\, en dialogue constant avec les mouvements du yoga. La pratique de Yoga Vinyasa\, dynamique et fluide\, se déploie à travers des enchaînements continus qui engagent le corps\, renforcent\, délient et activent l’énergie. Les sons et la percussion amplifient l’expérience corporelle : les mouvements\, la respiration et les battements du cœur se laissent porter par les vibrations. Grâce à un set d’instruments variés\, mélodies et rythmes s’adaptent à l’intensité et au rythme de la pratique\, créant un voyage sensoriel vivant et évolutif\, au service de la connexion à soi. \n– \nConditions générales \nL’inscription est validée dès réception du paiement du montant total. \nEn cas d’annulation\, le montant n’est pas remboursable\, quelque soit le motif. \nCependant\, il est possible de céder sa place à la personne de son choix.\nMerci de nous prévenir par message en cas de remplacement
URL:https://yogayerba.ch/event/yoga-sonore-vinyasa-vibrations/
LOCATION:Plan-les-Ouates\, Rte des Chevaliers-de-Malte 11\, Plan-les-Ouates\, Genève\, 1228
CATEGORIES:Avancé·e,Débutant·e,Intermédiaire,Ponctuel
ATTACH;FMTTYPE=image/png:https://yogayerba.ch/wp-content/uploads/2026/01/Affiche-Yoga-Sonore-Mai-2026.png
END:VEVENT
END:VCALENDAR